BEGIN:VCALENDAR
VERSION:2.0
PRODID:-//Plone.org//NONSGML plone.app.event//EN
X-WR-TIMEZONE:Europe/Madrid
BEGIN:VEVENT
SUMMARY:Presentació Programa de Beques Balsells per mobilitat EUA 17-18
DTSTART;TZID=Europe/Madrid:20160928T120000
DTEND;TZID=Europe/Madrid:20160928T140000
DTSTAMP:20260424T224759Z
UID:0e7a08ab34504b06a8c6fd3dfdb4db7f@www.etsetb.upc.edu
CONTACT:institutional.mobility@etsetb.upc.edu
CREATED:20160909T121251Z
DESCRIPTION:Presentació del programa de beques Balsells per a aquells est
 udiants que vulguin completar els seus estudis a la University of Colorado
  Boulder\, a la University of Colorado Colorado Springs o a la University 
 of California\, Irvine.
LAST-MODIFIED:20160923T104531Z
LOCATION:Sala d'Actes de l'Escola de Camins (Edifici C2)\, Campus Nord UPC
URL:https://telecos.upc.edu/ca/esdeveniments/historic-anterior-2020/presen
 tacio-programa-de-beques-balsells
END:VEVENT
BEGIN:VTIMEZONE
TZID:Europe/Madrid
X-LIC-LOCATION:Europe/Madrid
BEGIN:DAYLIGHT
DTSTART:20160327T030000
TZNAME:CEST
TZOFFSETFROM:+0100
TZOFFSETTO:+0200
END:DAYLIGHT
END:VTIMEZONE
END:VCALENDAR
