BEGIN:VCALENDAR
VERSION:2.0
PRODID:-//Plone.org//NONSGML plone.app.event//EN
X-WR-TIMEZONE:Europe/Madrid
BEGIN:VEVENT
SUMMARY:La Nit de les Telecomunicacions i la Informàtica
DTSTART;TZID=Europe/Madrid:20200217T183000
DTEND;TZID=Europe/Madrid:20200217T223000
DTSTAMP:20260424T194732Z
UID:bfcb54bfaf774baa97da8ee11544ef3e@telecos.upc.edu
CONTACT:https://www.lanit.cat/
CREATED:20200109T074856Z
DESCRIPTION:La Nit de les telecomunicacions i la informàtica és l'acte i
 nstitucional pioner i de referència del sector de les Telecomunicacions i
  Tecnologies de la informació celebrat a Barcelona des de l'any 1995.\n\n
 Està organitzada conjuntament per l'Associació Catalana d'Enginyers de T
 elecomunicació (Telecos.cat) i el Col·legi Oficial d'Enginyeria en Infor
 màtica de Catalunya (COEINF).\n\nLa Nit és el punt de partida de les act
 ivitats del sector a Barcelona i la primera trobada de networking de l'any
  entre professionals\, empreses\, administració pública\, associacions i
  institucions del sector TIC.\n\nL'esdeveniment és\, a més a més\, el m
 arc de lliurament dels Premis de La Nit: els premis Salvà i Campillo\, gu
 ardons de prestigi que reconeixen la personalitat de l’any i l’emprene
 doria\, el premi Joan Clarke\, de reconeixement al/la CIO destacat\, l’A
 lan Turing\, a la responsabilitat social\, el premi a la Comunicació i Di
 vulgació de les TIC\, així com l’entrega del Premi d’Honor de La Nit
 .\n\nEl 17 de febrer de 2020 se celebrarà una nova edició\, la 25a\, cit
 a ineludible per a tot el sector TIC del país.
LAST-MODIFIED:20200109T075406Z
LOCATION:L'Auditori
URL:https://telecos.upc.edu/ca/esdeveniments/la-nit-de-les-telecomunicacio
 ns-i-la-informatica
END:VEVENT
BEGIN:VTIMEZONE
TZID:Europe/Madrid
X-LIC-LOCATION:Europe/Madrid
BEGIN:STANDARD
DTSTART:20191027T020000
TZNAME:CET
TZOFFSETFROM:+0200
TZOFFSETTO:+0100
END:STANDARD
END:VTIMEZONE
END:VCALENDAR
